Workbook
Name jawaban: 'INPUT DATA'!$AL$23:$AM$46

Sheet PROFIL DOSEN
A1: DATA PROFIL KELOMPOK DOSEN
A3: Institusi
A4: Nama Intitusi | C4: : | D4: Universitas Bina Sarana Informatika
A6: Ketua Kelompok Dosen
A7: Nama | C7: : | D7: Susi Susilowati, M.Kom
A8: NIP | C8: : | D8: 200109680
A9: NIDN | C9: : | D9: 410077503
A10: Program Studi | C10: : | D10: Sistem Informasi Akuntansi Kampus Kota Bogor
A12: Informasi Kegiatan
A13: Tanggal Pelaksanaan | C13: : | D13: 3 Oktober 2026
A14: Judul Kegiatan | C14: : | D14: Pelatihan Pembuatan Media Edukasi Mengenai Healthy Lifestyle Menggunakan Webnode Bagi PKK RT 05 Desa Ragajaya Bojonggede Bogor
A15: Nama Mitra | C15: : | D15: PKK RT 05 Desa Ragajaya Bojonggede Bogor
A16: Peserta Kegiatan* | C16: : | D16: Anggota pkk dan warga RT 05
A17: Jumlah Responden | C17: : | D17: 11
A18: * tuliskan siapa peserta kegiatan, misalnya: anggota karang taruna

Sheet INPUT DATA
A1: No. Respon | B1: F1.1 Nama Responden | C1: F1.2 Jenis Kelamin | D1: F1.3 Usia | E1: F2-1 | F1: F2-2 | G1: F2-3 | H1: F2-4 | I1: F2-5 | J1: F2-6 | K1: F3-1 | L1: F3-2 | M1: F3-3 | N1: F3-4 | O1: F3-5 | P1: F3-6 | Q1: F3-7 | R1: F4 | S1: F5 | T1: F6
A2: 1 | B2: Erika Anjani | C2: 2 | D2: 3 | E2: 4 | F2: 3 | G2: 4 | H2: 5 | I2: 4 | J2: 3 | K2: 5 | L2: 5 | M2: 4 | N2: 4 | O2: 5 | P2: 5 | Q2: 4 | R2: 5 | S2: 4 | T2: kegiatan bisa intens dan berkelanjutan
A3: 2 | B3: Mila | C3: 2 | D3: 3 | E3: 4 | F3: 4 | G3: 5 | H3: 4 | I3: 4 | J3: 4 | K3: 4 | L3: 5 | M3: 4 | N3: 4 | O3: 4 | P3: 4 | Q3: 4 | R3: 4 | S3: 4
A4: 3 | B4: Nani Masniah | C4: 2 | D4: 4 | E4: 5 | F4: 4 | G4: 5 | H4: 5 | I4: 5 | J4: 5 | K4: 5 | L4: 5 | M4: 5 | N4: 4 | O4: 4 | P4: 4 | Q4: 4 | R4: 4 | S4: 5 | T4: saran diadakan lagi, kritik tidak ada sudah bagus
A5: 4 | B5: Lia Juliasri | C5: 2 | D5: 4 | E5: 5 | F5: 5 | G5: 5 | H5: 5 | I5: 5 | J5: 5 | K5: 5 | L5: 4 | M5: 5 | N5: 5 | O5: 5 | P5: 4 | Q5: 4 | R5: 3 | S5: 5 | T5: lebih detail untuk produk kesehatan sesuai dengan materi
A6: 5 | B6: Rosita Dewi | C6: 2 | D6: 4 | E6: 5 | F6: 4 | G6: 5 | H6: 5 | I6: 5 | J6: 4 | K6: 5 | L6: 4 | M6: 4 | N6: 4 | O6: 4 | P6: 4 | Q6: 4 | R6: 4 | S6: 5 | T6: saran ada lagi kritik engga ada sudah cukup bagus
A7: 6 | B7: Ella Irmaya | C7: 2 | D7: 4 | E7: 5 | F7: 5 | G7: 5 | H7: 5 | I7: 5 | J7: 4 | K7: 5 | L7: 4 | M7: 4 | N7: 4 | O7: 5 | P7: 4 | Q7: 5 | R7: 5 | S7: 4
A8: 7 | B8: Asbelita Farasy Destila | C8: 2 | D8: 2 | E8: 5 | F8: 5 | G8: 5 | H8: 5 | I8: 5 | J8: 5 | K8: 5 | L8: 5 | M8: 5 | N8: 5 | O8: 5 | P8: 4 | Q8: 4 | R8: 4 | S8: 5 | T8: kegiatan ini sudah bagus untuk memberikan ilmu dan ide berbisnis
A9: 8 | B9: Dessy Husnul Khotimah | C9: 2 | D9: 2 | E9: 5 | F9: 3 | G9: 4 | H9: 5 | I9: 5 | J9: 5 | K9: 5 | L9: 5 | M9: 5 | N9: 5 | O9: 5 | P9: 5 | Q9: 5 | R9: 5 | S9: 5 | T9: tolong berikan modul hardcopy
A10: 9 | B10: Aldy Wirya Pratama | C10: 1 | D10: 4 | E10: 3 | F10: 2 | G10: 3 | H10: 5 | I10: 5 | J10: 5 | K10: 4 | L10: 5 | M10: 3 | N10: 5 | O10: 3 | P10: 4 | Q10: 3 | R10: 3 | S10: 5 | T10: Alhamdulillah tidak ada kritik dan saran pada kegiatan ini
A11: 10 | B11: Mohammad Ali Imron | C11: 1 | D11: 4 | E11: 4 | F11: 2 | G11: 3 | H11: 4 | I11: 5 | J11: 3 | K11: 4 | L11: 5 | M11: 4 | N11: 3 | O11: 4 | P11: 3 | Q11: 3 | R11: 4 | S11: 3 | T11: sampaikan contoh contoh yang dapat dimengerti diketahui peserta sehingga memacu semangat peserta untuk bertindak yang disampaikan pemateri, amati tiru, modifikasi
A12: 11 | B12: Miftahudin | C12: 1 | D12: 3 | E12: 4 | F12: 5 | G12: 4 | H12: 5 | I12: 4 | J12: 4 | K12: 5 | L12: 4 | M12: 4 | N12: 4 | O12: 4 | P12: 4 | Q12: 4 | R12: 4 | S12: 4 | T12: bagus, lebih baik jika ada copy materi
A13: 12
A14: 13
A15: 14
A16: 15
A17: 16
A18: 17
A19: 18
A20: 19
A21: 20
A22: 21
A23: 22
A24: 23
... A27: 26

Sheet REKAP 1 (untuk di Laporan)
A1: REKAP KUESIONER PESERTA
A2: KEGIATAN PENGABDIAN KEPADA MASYARAKAT
A3: ='PROFIL DOSEN'!D4 -> Universitas Bina Sarana Informatika
A5: Tanggal Pelaksanaan | C5: =CONCATENATE(": ",'PROFIL DOSEN'!D13) -> : 3 Oktober 2026
A6: Judul Kegiatan | C6: =CONCATENATE(": ",'PROFIL DOSEN'!D14) -> : Pelatihan Pembuatan Media Edukasi Mengenai Healthy Lifestyle Menggunakan Webnode Bagi PKK RT 05 Desa Ragajaya Bojonggede Bogor
A7: Nama Mitra | C7: =CONCATENATE(": ",'PROFIL DOSEN'!D15) -> : PKK RT 05 Desa Ragajaya Bojonggede Bogor
A8: Peserta Kegiatan | C8: =CONCATENATE(": ",'PROFIL DOSEN'!D16) -> : Anggota pkk dan warga RT 05
A9: Jumlah Responden | C9: =CONCATENATE(": ",'PROFIL DOSEN'!D17) -> : 11
A12: Distribusi frekuensi Responden Responden berdasarkan jenis kelamin | F12: Distribusi frekuensi Responden Responden berdasarkan Usia
A13: No | B13: Program Studi | C13: Freq | D13: Percent | F13: No | G13: Program Studi | H13: Freq | I13: Percent
A14: 1 | B14: Laki-Laki | C14: =COUNTIF('INPUT DATA'!$C$2:$C$27,'REKAP 1 (untuk di Laporan)'!A14) -> 3 | D14: =C14/$C$16 -> 0.27272727 | F14: 1 | G14: < 20 Tahun | H14: =COUNTIF('INPUT DATA'!$D$2:$D$27,'REKAP 1 (untuk di Laporan)'!F14) -> 0 | I14: =H14/$H$18 -> 0
A15: 2 | B15: Perempuan | C15: =COUNTIF('INPUT DATA'!$C$2:$C$27,'REKAP 1 (untuk di Laporan)'!A15) -> 8 | D15: =C15/$C$16 -> 0.72727273 | F15: 2 | G15: 20-35 Tahun | H15: =COUNTIF('INPUT DATA'!$D$2:$D$27,'REKAP 1 (untuk di Laporan)'!F15) -> 2 | I15: =H15/$H$18 -> 0.18181818
A16: Jumlah Responden | C16: =SUM(C14:C15) -> 11 | D16: =SUM(D14:D15) -> 1 | F16: 3 | G16: 35-50 Tahun | H16: =COUNTIF('INPUT DATA'!$D$2:$D$27,'REKAP 1 (untuk di Laporan)'!F16) -> 3 | I16: =H16/$H$18 -> 0.27272727
F17: 4 | G17: >50 Tahun | H17: =COUNTIF('INPUT DATA'!$D$2:$D$27,'REKAP 1 (untuk di Laporan)'!F17) -> 6 | I17: =H17/$H$18 -> 0.54545455
F18: Jumlah Responden | H18: =SUM(H14:H17) -> 11 | I18: =SUM(I14:I17) -> 1
A20: F2 | B20: Persepsi mengenai layanan yang diberikan oleh panitia kegiatan.
A21: F2-1 Informasi kegiatan pada saat pelaksanaan | F21: F2-2 Materi/modul pelatihan/kegiatan
A22: No | B22: Keterangan Jawaban | C22: Freq | D22: Percent | F22: No | G22: Keterangan Jawaban | H22: Freq | I22: Percent
A23: 1 | B23: Sangat tidak setuju | C23: =COUNTIF('INPUT DATA'!E$2:E$27,'REKAP 1 (untuk di Laporan)'!$A23) -> 0 | D23: =C23/C28 -> 0 | F23: 1 | G23: Sangat tidak setuju | H23: =COUNTIF('INPUT DATA'!F$2:F$27,'REKAP 1 (untuk di Laporan)'!$A23) -> 0 | I23: =H23/H28 -> 0
A24: 2 | B24: Tidak setuju | C24: =COUNTIF('INPUT DATA'!E$2:E$27,'REKAP 1 (untuk di Laporan)'!$A24) -> 0 | D24: =C24/C28 -> 0 | F24: 2 | G24: Tidak setuju | H24: =COUNTIF('INPUT DATA'!F$2:F$27,'REKAP 1 (untuk di Laporan)'!$A24) -> 2 | I24: =H24/H28 -> 0.18181818
A25: 3 | B25: Cukup setuju | C25: =COUNTIF('INPUT DATA'!E$2:E$27,'REKAP 1 (untuk di Laporan)'!$A25) -> 1 | D25: =C25/C28 -> 0.090909091 | F25: 3 | G25: Cukup setuju | H25: =COUNTIF('INPUT DATA'!F$2:F$27,'REKAP 1 (untuk di Laporan)'!$A25) -> 2 | I25: =H25/H28 -> 0.18181818
A26: 4 | B26: setuju | C26: =COUNTIF('INPUT DATA'!E$2:E$27,'REKAP 1 (untuk di Laporan)'!$A26) -> 4 | D26: =C26/C28 -> 0.36363636 | F26: 4 | G26: setuju | H26: =COUNTIF('INPUT DATA'!F$2:F$27,'REKAP 1 (untuk di Laporan)'!$A26) -> 3 | I26: =H26/H28 -> 0.27272727
A27: 5 | B27: Sangat setuju | C27: =COUNTIF('INPUT DATA'!E$2:E$27,'REKAP 1 (untuk di Laporan)'!$A27) -> 6 | D27: =C27/C28 -> 0.54545455 | F27: 5 | G27: Sangat setuju | H27: =COUNTIF('INPUT DATA'!F$2:F$27,'REKAP 1 (untuk di Laporan)'!$A27) -> 4 | I27: =H27/H28 -> 0.36363636
C28: =SUM(C23:C27) -> 11 | D28: =SUM(D23:D27) -> 1 | H28: =SUM(H23:H27) -> 11 | I28: =SUM(I23:I27) -> 1
A31: F2-3 Sarana dan prasarana yang digunakan pada saat kegiatan berlangsung | F31: F2-4 Tema kegiatan ini
A32: No | B32: Keterangan Jawaban | C32: Freq | D32: Percent | F32: No | G32: Keterangan Jawaban | H32: Freq | I32: Percent
A33: 1 | B33: Sangat tidak setuju | C33: =COUNTIF('INPUT DATA'!G$2:G$27,'REKAP 1 (untuk di Laporan)'!$A23) -> 0 | D33: =C33/C38 -> 0 | F33: 1 | G33: Sangat tidak setuju | H33: =COUNTIF('INPUT DATA'!H$2:H$27,'REKAP 1 (untuk di Laporan)'!$A23) -> 0 | I33: =H33/H38 -> 0
A34: 2 | B34: Tidak setuju | C34: =COUNTIF('INPUT DATA'!G$2:G$27,'REKAP 1 (untuk di Laporan)'!$A24) -> 0 | D34: =C34/C38 -> 0 | F34: 2 | G34: Tidak setuju | H34: =COUNTIF('INPUT DATA'!H$2:H$27,'REKAP 1 (untuk di Laporan)'!$A24) -> 0 | I34: =H34/H38 -> 0
A35: 3 | B35: Cukup setuju | C35: =COUNTIF('INPUT DATA'!G$2:G$27,'REKAP 1 (untuk di Laporan)'!$A25) -> 2 | D35: =C35/C38 -> 0.18181818 | F35: 3 | G35: Cukup setuju | H35: =COUNTIF('INPUT DATA'!H$2:H$27,'REKAP 1 (untuk di Laporan)'!$A25) -> 0 | I35: =H35/H38 -> 0
A36: 4 | B36: setuju | C36: =COUNTIF('INPUT DATA'!G$2:G$27,'REKAP 1 (untuk di Laporan)'!$A26) -> 3 | D36: =C36/C38 -> 0.27272727 | F36: 4 | G36: setuju | H36: =COUNTIF('INPUT DATA'!H$2:H$27,'REKAP 1 (untuk di Laporan)'!$A26) -> 2 | I36: =H36/H38 -> 0.18181818
A37: 5 | B37: Sangat setuju | C37: =COUNTIF('INPUT DATA'!G$2:G$27,'REKAP 1 (untuk di Laporan)'!$A27) -> 6 | D37: =C37/C38 -> 0.54545455 | F37: 5 | G37: Sangat setuju | H37: =COUNTIF('INPUT DATA'!H$2:H$27,'REKAP 1 (untuk di Laporan)'!$A27) -> 9 | I37: =H37/H38 -> 0.81818182
C38: =SUM(C33:C37) -> 11 | D38: =SUM(D33:D37) -> 1 | H38: =SUM(H33:H37) -> 11 | I38: =SUM(I33:I37) -> 1
A40: F2-5 Tutor/Narasumber menyampaikan materi | F40: F2-6 Susunan acara berjalan dengan baik
A41: No | B41: Keterangan Jawaban | C41: Freq | D41: Percent | F41: No | G41: Keterangan Jawaban | H41: Freq | I41: Percent
A42: 1 | B42: Sangat tidak setuju | C42: =COUNTIF('INPUT DATA'!I$2:I$27,'REKAP 1 (untuk di Laporan)'!$A23) -> 0 | D42: =C42/C47 -> 0 | F42: 1 | G42: Sangat tidak setuju | H42: =COUNTIF('INPUT DATA'!J$2:J$27,'REKAP 1 (untuk di Laporan)'!$A23) -> 0 | I42: =H42/H47 -> 0
A43: 2 | B43: Tidak setuju | C43: =COUNTIF('INPUT DATA'!I$2:I$27,'REKAP 1 (untuk di Laporan)'!$A24) -> 0 | D43: =C43/C47 -> 0 | F43: 2 | G43: Tidak setuju | H43: =COUNTIF('INPUT DATA'!J$2:J$27,'REKAP 1 (untuk di Laporan)'!$A24) -> 0 | I43: =H43/H47 -> 0
A44: 3 | B44: Cukup setuju | C44: =COUNTIF('INPUT DATA'!I$2:I$27,'REKAP 1 (untuk di Laporan)'!$A25) -> 0 | D44: =C44/C47 -> 0 | F44: 3 | G44: Cukup setuju | H44: =COUNTIF('INPUT DATA'!J$2:J$27,'REKAP 1 (untuk di Laporan)'!$A25) -> 2 | I44: =H44/H47 -> 0.18181818
A45: 4 | B45: setuju | C45: =COUNTIF('INPUT DATA'!I$2:I$27,'REKAP 1 (untuk di Laporan)'!$A26) -> 3 | D45: =C45/C47 -> 0.27272727 | F45: 4 | G45: Setuju | H45: =COUNTIF('INPUT DATA'!J$2:J$27,'REKAP 1 (untuk di Laporan)'!$A26) -> 4 | I45: =H45/H47 -> 0.36363636
A46: 5 | B46: Sangat setuju | C46: =COUNTIF('INPUT DATA'!I$2:I$27,'REKAP 1 (untuk di Laporan)'!$A27) -> 8 | D46: =C46/C47 -> 0.72727273 | F46: 5 | G46: Sangat setuju | H46: =COUNTIF('INPUT DATA'!J$2:J$27,'REKAP 1 (untuk di Laporan)'!$A27) -> 5 | I46: =H46/H47 -> 0.45454545
C47: =SUM(C42:C46) -> 11 | D47: =SUM(D42:D46) -> 1 | H47: =SUM(H42:H46) -> 11 | I47: =SUM(I42:I46) -> 1
A58: F3 | B58: Persepsi Peserta Mengenai Hasil Kegiatan.
A59: F3-1 Kegiatan ini memberikan manfaat bagi peserta. | F59: F3-2 Kegiatan ini menambah wawasan peserta (mengenai tema yang disampaikan)
A60: No | B60: Keterangan Jawaban | C60: Freq | D60: Percent | F60: No | G60: Keterangan Jawaban | H60: Freq | I60: Percent
A61: 1 | B61: Sangat tidak setuju | C61: =COUNTIF('INPUT DATA'!K$2:K$27,'REKAP 1 (untuk di Laporan)'!$A23) -> 0 | D61: =C61/C66 -> 0 | F61: 1 | G61: Sangat tidak setuju | H61: =COUNTIF('INPUT DATA'!L$2:L$27,'REKAP 1 (untuk di Laporan)'!$A23) -> 0 | I61: =H61/H66 -> 0
A62: 2 | B62: Tidak setuju | C62: =COUNTIF('INPUT DATA'!K$2:K$27,'REKAP 1 (untuk di Laporan)'!$A24) -> 0 | D62: =C62/C66 -> 0 | F62: 2 | G62: Tidak setuju | H62: =COUNTIF('INPUT DATA'!L$2:L$27,'REKAP 1 (untuk di Laporan)'!$A24) -> 0 | I62: =H62/H66 -> 0
A63: 3 | B63: Cukup setuju | C63: =COUNTIF('INPUT DATA'!K$2:K$27,'REKAP 1 (untuk di Laporan)'!$A25) -> 0 | D63: =C63/C66 -> 0 | F63: 3 | G63: Cukup setuju | H63: =COUNTIF('INPUT DATA'!L$2:L$27,'REKAP 1 (untuk di Laporan)'!$A25) -> 0 | I63: =H63/H66 -> 0
A64: 4 | B64: Setuju | C64: =COUNTIF('INPUT DATA'!K$2:K$27,'REKAP 1 (untuk di Laporan)'!$A26) -> 3 | D64: =C64/C66 -> 0.27272727 | F64: 4 | G64: Setuju | H64: =COUNTIF('INPUT DATA'!L$2:L$27,'REKAP 1 (untuk di Laporan)'!$A26) -> 4 | I64: =H64/H66 -> 0.36363636
A65: 5 | B65: Sangat setuju | C65: =COUNTIF('INPUT DATA'!K$2:K$27,'REKAP 1 (untuk di Laporan)'!$A27) -> 8 | D65: =C65/C66 -> 0.72727273 | F65: 5 | G65: Sangat setuju | H65: =COUNTIF('INPUT DATA'!L$2:L$27,'REKAP 1 (untuk di Laporan)'!$A27) -> 7 | I65: =H65/H66 -> 0.63636364
C66: =SUM(C61:C65) -> 11 | D66: =SUM(D61:D65) -> 1 | H66: =SUM(H61:H65) -> 11 | I66: =SUM(I61:I65) -> 1
A68: F3-3 Kegiatan ini menambah ketrampilan peserta sesuai dengan tema yang disampaikan | F68: F3-4 Kegiatan ini memperhatikan Keselamatan dan Kesehatan Kerja (K3).
A69: No | B69: Keterangan Jawaban | C69: Freq | D69: Percent | F69: No | G69: Keterangan Jawaban | H69: Freq | I69: Percent
A70: 1 | B70: Sangat tidak setuju | C70: =COUNTIF('INPUT DATA'!M$2:M$27,'REKAP 1 (untuk di Laporan)'!$A23) -> 0 | D70: =C70/C75 -> 0 | F70: 1 | G70: Sangat tidak setuju | H70: =COUNTIF('INPUT DATA'!N$2:N$27,'REKAP 1 (untuk di Laporan)'!$A23) -> 0 | I70: =H70/H75 -> 0
A71: 2 | B71: Tidak setuju | C71: =COUNTIF('INPUT DATA'!M$2:M$27,'REKAP 1 (untuk di Laporan)'!$A24) -> 0 | D71: =C71/C75 -> 0 | F71: 2 | G71: Tidak setuju | H71: =COUNTIF('INPUT DATA'!N$2:N$27,'REKAP 1 (untuk di Laporan)'!$A24) -> 0 | I71: =H71/H75 -> 0
A72: 3 | B72: Cukup setuju | C72: =COUNTIF('INPUT DATA'!M$2:M$27,'REKAP 1 (untuk di Laporan)'!$A25) -> 1 | D72: =C72/C75 -> 0.090909091 | F72: 3 | G72: Cukup setuju | H72: =COUNTIF('INPUT DATA'!N$2:N$27,'REKAP 1 (untuk di Laporan)'!$A25) -> 1 | I72: =H72/H75 -> 0.090909091
A73: 4 | B73: Setuju | C73: =COUNTIF('INPUT DATA'!M$2:M$27,'REKAP 1 (untuk di Laporan)'!$A26) -> 6 | D73: =C73/C75 -> 0.54545455 | F73: 4 | G73: Setuju | H73: =COUNTIF('INPUT DATA'!N$2:N$27,'REKAP 1 (untuk di Laporan)'!$A26) -> 6 | I73: =H73/H75 -> 0.54545455
A74: 5 | B74: Sangat setuju | C74: =COUNTIF('INPUT DATA'!M$2:M$27,'REKAP 1 (untuk di Laporan)'!$A27) -> 4 | D74: =C74/C75 -> 0.36363636 | F74: 5 | G74: Sangat setuju | H74: =COUNTIF('INPUT DATA'!N$2:N$27,'REKAP 1 (untuk di Laporan)'!$A27) -> 4 | I74: =H74/H75 -> 0.36363636
C75: =SUM(C70:C74) -> 11 | D75: =SUM(D70:D74) -> 1 | H75: =SUM(H70:H74) -> 11 | I75: =SUM(I70:I74) -> 1
A77: F3-5 Kegiatan ini memberikan pemanfaatan ilmu pengetahuan dan teknologi kepada peserta secara berkelanjutan. | F77: F3-6 Hasil kegiatan ini dapat memberikan solusi bagi permasalahan yang dihadapai oleh peserta.
A78: No | B78: Keterangan Jawaban | C78: Freq | D78: Percent | F78: No | G78: Keterangan Jawaban | H78: Freq | I78: Percent
A79: 1 | B79: Sangat tidak setuju | C79: =COUNTIF('INPUT DATA'!O$2:O$27,'REKAP 1 (untuk di Laporan)'!$A23) -> 0 | D79: =C79/C84 -> 0 | F79: 1 | G79: Sangat tidak setuju | H79: =COUNTIF('INPUT DATA'!P$2:P$27,'REKAP 1 (untuk di Laporan)'!$A23) -> 0 | I79: =H79/H84 -> 0
A80: 2 | B80: Tidak setuju | C80: =COUNTIF('INPUT DATA'!O$2:O$27,'REKAP 1 (untuk di Laporan)'!$A24) -> 0 | D80: =C80/C84 -> 0 | F80: 2 | G80: Tidak setuju | H80: =COUNTIF('INPUT DATA'!P$2:P$27,'REKAP 1 (untuk di Laporan)'!$A24) -> 0 | I80: =H80/H84 -> 0
A81: 3 | B81: Cukup setuju | C81: =COUNTIF('INPUT DATA'!O$2:O$27,'REKAP 1 (untuk di Laporan)'!$A25) -> 1 | D81: =C81/C84 -> 0.090909091 | F81: 3 | G81: Cukup setuju | H81: =COUNTIF('INPUT DATA'!P$2:P$27,'REKAP 1 (untuk di Laporan)'!$A25) -> 1 | I81: =H81/H84 -> 0.090909091
A82: 4 | B82: Setuju | C82: =COUNTIF('INPUT DATA'!O$2:O$27,'REKAP 1 (untuk di Laporan)'!$A26) -> 5 | D82: =C82/C84 -> 0.45454545 | F82: 4 | G82: Setuju | H82: =COUNTIF('INPUT DATA'!P$2:P$27,'REKAP 1 (untuk di Laporan)'!$A26) -> 8 | I82: =H82/H84 -> 0.72727273
A83: 5 | B83: Sangat setuju | C83: =COUNTIF('INPUT DATA'!O$2:O$27,'REKAP 1 (untuk di Laporan)'!$A27) -> 5 | D83: =C83/C84 -> 0.45454545 | F83: 5 | G83: Sangat setuju | H83: =COUNTIF('INPUT DATA'!P$2:P$27,'REKAP 1 (untuk di Laporan)'!$A27) -> 2 | I83: =H83/H84 -> 0.18181818
C84: =SUM(C79:C83) -> 11 | D84: =SUM(D79:D83) -> 1 | H84: =SUM(H79:H83) -> 11 | I84: =SUM(I79:I83) -> 1
A86: F3-7 Kegiatan ini dilakukan sesuai dengan kaidah metode ilmiah (dilakukan secara terstruktur dan sistematis).
A87: No | B87: Keterangan Jawaban | C87: Freq | D87: Percent
A88: 1 | B88: Sangat tidak setuju | C88: =COUNTIF('INPUT DATA'!Q$2:Q$27,'REKAP 1 (untuk di Laporan)'!$A23) -> 0 | D88: =C88/C93 -> 0
A89: 2 | B89: Tidak setuju | C89: =COUNTIF('INPUT DATA'!Q$2:Q$27,'REKAP 1 (untuk di Laporan)'!$A24) -> 0 | D89: =C89/C93 -> 0
A90: 3 | B90: Cukup setuju | C90: =COUNTIF('INPUT DATA'!Q$2:Q$27,'REKAP 1 (untuk di Laporan)'!$A25) -> 2 | D90: =C90/C93 -> 0.18181818
A91: 4 | B91: Setuju | C91: =COUNTIF('INPUT DATA'!Q$2:Q$27,'REKAP 1 (untuk di Laporan)'!$A26) -> 7 | D91: =C91/C93 -> 0.63636364
A92: 5 | B92: Sangat setuju | C92: =COUNTIF('INPUT DATA'!Q$2:Q$27,'REKAP 1 (untuk di Laporan)'!$A27) -> 2 | D92: =C92/C93 -> 0.18181818
C93: =SUM(C88:C92) -> 11 | D93: =SUM(D88:D92) -> 1
A96: F4 Jika kegiatan ini diadakan kembali, seberapa besar minat responden untuk berpartisipasi
A97: No | B97: Keterangan Jawaban | C97: Freq | D97: Percent
A98: 1 | B98: Sangat tidak setuju | C98: =COUNTIF('INPUT DATA'!R$2:R$27,'REKAP 1 (untuk di Laporan)'!$A23) -> 0 | D98: =C98/C103 -> 0
A99: 2 | B99: Tidak setuju | C99: =COUNTIF('INPUT DATA'!R$2:R$27,'REKAP 1 (untuk di Laporan)'!$A24) -> 0 | D99: =C99/C103 -> 0
A100: 3 | B100: Cukup setuju | C100: =COUNTIF('INPUT DATA'!R$2:R$27,'REKAP 1 (untuk di Laporan)'!$A25) -> 2 | D100: =C100/C103 -> 0.18181818
A101: 4 | B101: setuju | C101: =COUNTIF('INPUT DATA'!R$2:R$27,'REKAP 1 (untuk di Laporan)'!$A26) -> 6 | D101: =C101/C103 -> 0.54545455
A102: 5 | B102: Sangat setuju | C102: =COUNTIF('INPUT DATA'!R$2:R$27,'REKAP 1 (untuk di Laporan)'!$A27) -> 3 | D102: =C102/C103 -> 0.27272727
C103: =SUM(C98:C102) -> 11 | D103: =SUM(D98:D102) -> 1
A105: F5 Secara keseluruhan saya sangat puas dengan kegiatan ini
A106: No | B106: Keterangan Jawaban | C106: Freq | D106: Percent
A107: 1 | B107: Sangat tidak setuju | C107: =COUNTIF('INPUT DATA'!S$2:S$27,'REKAP 1 (untuk di Laporan)'!$A23) -> 0 | D107: =C107/C112 -> 0
A108: 2 | B108: Tidak setuju | C108: =COUNTIF('INPUT DATA'!S$2:S$27,'REKAP 1 (untuk di Laporan)'!$A24) -> 0 | D108: =C108/C112 -> 0
A109: 3 | B109: Cukup setuju | C109: =COUNTIF('INPUT DATA'!S$2:S$27,'REKAP 1 (untuk di Laporan)'!$A25) -> 1 | D109: =C109/C112 -> 0.090909091
A110: 4 | B110: setuju | C110: =COUNTIF('INPUT DATA'!S$2:S$27,'REKAP 1 (untuk di Laporan)'!$A26) -> 4 | D110: =C110/C112 -> 0.36363636
A111: 5 | B111: Sangat setuju | C111: =COUNTIF('INPUT DATA'!S$2:S$27,'REKAP 1 (untuk di Laporan)'!$A27) -> 6 | D111: =C111/C112 -> 0.54545455
C112: =SUM(C107:C111) -> 11 | D112: =SUM(D107:D111) -> 1

Sheet REKAP 2 (untuk input GForm)
A1: SKOR RATA-RATA KUESIONER PESERTA UNTUK DIINPUTKAN PADA GFORM
A2: ='PROFIL DOSEN'!D4 -> Universitas Bina Sarana Informatika
B3: Link GFORM: | C3: https://docs.google.com/forms/d/e/1FAIpQLSfPj5hUvxlAnjDDp7WaCIbtUVqFfZQUsp3zFHLSCNW4HgGoog/viewform?usp=header
C4: *Harus login melalui email @bsi.ac.id
A5: PROFIL KELOMPOK DOSEN
A6: Nama Ketua Kelompok | C6: =CONCATENATE(":",'PROFIL DOSEN'!D7) -> :Susi Susilowati, M.Kom
A7: NIP Ketua Kelompok | C7: =CONCATENATE(":",'PROFIL DOSEN'!D8) -> :200109680
A8: NIDN Ketua Kelompok | C8: =CONCATENATE(":",'PROFIL DOSEN'!D9) -> :410077503
A9: Program Studi Ketua Kelompok | C9: =CONCATENATE(":",'PROFIL DOSEN'!D10) -> :Sistem Informasi Akuntansi Kampus Kota Bogor
A11: INFORMASI KEGIATAN
A12: Tanggal Pelaksanaan | C12: =CONCATENATE(":",'PROFIL DOSEN'!D13) -> :3 Oktober 2026
A13: Judul Kegiatan | C13: =CONCATENATE(":",'PROFIL DOSEN'!D14) -> :Pelatihan Pembuatan Media Edukasi Mengenai Healthy Lifestyle Menggunakan Webnode Bagi PKK RT 05 Desa Ragajaya Bojonggede Bogor
A14: Nama Mitra | C14: =CONCATENATE(":",'PROFIL DOSEN'!D15) -> :PKK RT 05 Desa Ragajaya Bojonggede Bogor
A15: Peserta Kegiatan | C15: =CONCATENATE(":",'PROFIL DOSEN'!D16) -> :Anggota pkk dan warga RT 05
A16: Jumlah Responden | C16: =CONCATENATE(":",'PROFIL DOSEN'!D17) -> :11
A18: REKAP HASIL KUESIONER
A19: F1-3 Jumlah Responden Berdasarkan Jenis Kelamin
A20: No | B20: Program Studi | C20: Freq
A21: 1 | B21: Laki-Laki | C21: ='REKAP 1 (untuk di Laporan)'!C14 -> 3
A22: 2 | B22: Perempuan | C22: ='REKAP 1 (untuk di Laporan)'!C15 -> 8
A23: Jumlah Responden | C23: =SUM(C21:C22) -> 11
A25: F1-4 Jumlah Responden Berdasarkan Usia
A26: No | B26: Program Studi | C26: Freq
A27: 1 | B27: < 20 Tahun | C27: ='REKAP 1 (untuk di Laporan)'!H14 -> 0
A28: 2 | B28: 20-35 Tahun | C28: ='REKAP 1 (untuk di Laporan)'!H15 -> 2
A29: 3 | B29: 35-50 Tahun | C29: ='REKAP 1 (untuk di Laporan)'!H16 -> 3
A30: 4 | B30: >50 Tahun | C30: ='REKAP 1 (untuk di Laporan)'!H17 -> 6
A31: Jumlah Responden | C31: =SUM(C27:C30) -> 11
A33: F2 Persepsi mengenai layanan yang diberikan oleh panitia kegiatan.
A34: No. Form | B34: Pertanyaan | F34: Skor Rata-rata
A35: F2-1 | B35: ='Form Kuesioner peserta'!B13 -> Panitia memberikan Informasi kegiatan dengan jelas. | F35: =AVERAGE('INPUT DATA'!E$2:E$27) -> 4.4545455
A36: F2-2 | B36: ='Form Kuesioner peserta'!B14 -> Panitia menyediakan Materi/modul pelatihan pada saat kegiatan berlangsung | F36: =AVERAGE('INPUT DATA'!F$2:F$27) -> 3.8181818
A37: F2-3 | B37: ='Form Kuesioner peserta'!B15 -> Sarana dan prasarana yang digunakan pada saat kegiatan berlangsung telah memenuhi kebutuhan peserta | F37: =AVERAGE('INPUT DATA'!G$2:G$27) -> 4.3636364
A38: F2-4 | B38: ='Form Kuesioner peserta'!B16 -> Tema kegiatan sesuai dengan kebutuhan peserta | F38: =AVERAGE('INPUT DATA'!H$2:H$27) -> 4.8181818
A39: F2-5 | B39: ='Form Kuesioner peserta'!B17 -> Tutor/Narasumber menyampaikan materi dengan jelas | F39: =AVERAGE('INPUT DATA'!I$2:I$27) -> 4.7272727
A40: F2-6 | B40: ='Form Kuesioner peserta'!B18 -> Susunan acara berjalan sesuai dengan rencana | F40: =AVERAGE('INPUT DATA'!J$2:J$27) -> 4.2727273
A42: F3 Persepsi Peserta Mengenai Hasil Kegiatan.
A43: No. Form | B43: Pertanyaan | F43: Skor Rata-rata
A44: F3-1 | B44: ='Form Kuesioner peserta'!B21 -> Kegiatan ini memberikan manfaat bagi peserta. | F44: =AVERAGE('INPUT DATA'!K$2:K$27) -> 4.7272727
A45: F3-2 | B45: ='Form Kuesioner peserta'!B22 -> Kegiatan ini menambah wawasan peserta (mengenai tema yang disampaikan) | F45: =AVERAGE('INPUT DATA'!L$2:L$27) -> 4.6363636
A46: F3-3 | B46: ='Form Kuesioner peserta'!B23 -> Kegiatan ini menambah ketrampilan peserta sesuai dengan tema yang disampaikan | F46: =AVERAGE('INPUT DATA'!M$2:M$27) -> 4.2727273
A47: F3-4 | B47: ='Form Kuesioner peserta'!B24 -> Kegiatan ini memperhatikan Keselamatan dan Kesehatan Kerja (K3). | F47: =AVERAGE('INPUT DATA'!N$2:N$27) -> 4.2727273
A48: F3-5 | B48: ='Form Kuesioner peserta'!B25 -> Kegiatan ini memberikan pemanfaatan ilmu pengetahuan dan teknologi kepada peserta secara berkelanjutan. | F48: =AVERAGE('INPUT DATA'!O$2:O$27) -> 4.3636364
A49: F3-6 | B49: ='Form Kuesioner peserta'!B26 -> Hasil kegiatan ini dapat memberikan solusi bagi permasalahan yang dihadapai oleh peserta. | F49: =AVERAGE('INPUT DATA'!P$2:P$27) -> 4.0909091
A50: F3-7 | B50: ='Form Kuesioner peserta'!B27 -> Kegiatan ini dilakukan sesuai dengan kaidah metode ilmiah (dilakukan secara terstruktur dan sistematis). | F50: =AVERAGE('INPUT DATA'!Q$2:Q$27) -> 4
A52: No. Form | B52: Pertanyaan | F52: Skor Rata-rata
A53: F4 | B53: ='Form Kuesioner peserta'!B28 -> Jika kegiatan ini diadakan kembali, saya sangat berminat untuk berpartisipasi lagi | F53: =AVERAGE('INPUT DATA'!R$2:R$27) -> 4.0909091
A54: F5 | B54: ='Form Kuesioner peserta'!B29 -> Secara keseluruhan saya sangat puas dengan kegiatan ini | F54: =AVERAGE('INPUT DATA'!S$2:S$27) -> 4.4545455

Sheet Form Kuesioner peserta
A1: F1 | B1: PROFIL RESPONDEN
A2: F1-1 | B2: Nama Responden | C2: …………………………………………………………………………………………………….
A3: F1-2 | B3: Jenis Kelamin | C3: 1=Laki-Laki 2 =Perempuan
A4: F1-3 | B4: Usia | C4: 1 = umur < 20 Tahun 2 = umur 20-35 Tahun 3 = umur 35-50 Tahun 4 = umur >50- Tahun
A5: F1-4 | B5: Jenis Kegiatan | C5: 1 = Pelatihan 2 = Workshop 3 = Lainnya: …………………………………..
A6: F1-5 | B6: Tema Kegiatan | C6: …………………………………………………………………………………………………….
A7: F1-6 | B7: Tanggal Pelaksanaan | C7: …… - ……- ………… (Tanggal-Bulan-Tahun)
A8: F1-7 | B8: Tempat Pelaksanaan | C8: …………………………………………………………………………………………………….
A9: F1-8 | B9: Nama Mitra | C9: …………………………………………………………………………………………………….
A12: F2 | B12: Persepsi mengenai layanan yang diberikan oleh panitia kegiatan.
A13: F2-1 | B13: Panitia memberikan Informasi kegiatan dengan jelas. | C13: [1="Sangat tidak setuju"; 2="Tidap setuju"; 3=:Cukup setuju"; 4="Setuju"; 5="Sangat setuju"]
A14: F2-2 | B14: Panitia menyediakan Materi/modul pelatihan pada saat kegiatan berlangsung | C14: [1="Sangat tidak setuju"; 2="Tidap setuju"; 3=:Cukup setuju"; 4="Setuju"; 5="Sangat setuju"]
A15: F2-3 | B15: Sarana dan prasarana yang digunakan pada saat kegiatan berlangsung telah memenuhi kebutuhan peserta | C15: [1="Sangat tidak setuju"; 2="Tidap setuju"; 3=:Cukup setuju"; 4="Setuju"; 5="Sangat setuju"]
A16: F2-4 | B16: Tema kegiatan sesuai dengan kebutuhan peserta | C16: [1="Sangat tidak setuju"; 2="Tidap setuju"; 3=:Cukup setuju"; 4="Setuju"; 5="Sangat setuju"]
A17: F2-5 | B17: Tutor/Narasumber menyampaikan materi dengan jelas | C17: [1="Sangat tidak setuju"; 2="Tidap setuju"; 3=:Cukup setuju"; 4="Setuju"; 5="Sangat setuju"]
A18: F2-6 | B18: Susunan acara berjalan sesuai dengan rencana | C18: [1="Sangat tidak setuju"; 2="Tidap setuju"; 3=:Cukup setuju"; 4="Setuju"; 5="Sangat setuju"]
A20: F3 | B20: Persepsi Peserta Mengenai Hasil Kegiatan.
A21: F3-1 | B21: Kegiatan ini memberikan manfaat bagi peserta. | C21: [1="Sangat tidak setuju"; 2="Tidap setuju"; 3=:Cukup setuju:; 4="Setuju"; 5="Sangat setuju"]
A22: F3-2 | B22: Kegiatan ini menambah wawasan peserta (mengenai tema yang disampaikan) | C22: [1="Sangat tidak setuju"; 2="Tidap setuju"; 3=:Cukup setuju:; 4="Setuju"; 5="Sangat setuju"]
A23: F3-3 | B23: Kegiatan ini menambah ketrampilan peserta sesuai dengan tema yang disampaikan | C23: [1="Sangat tidak setuju"; 2="Tidap setuju"; 3=:Cukup setuju:; 4="Setuju"; 5="Sangat setuju"]
A24: F3-4 | B24: Kegiatan ini memperhatikan Keselamatan dan Kesehatan Kerja (K3). | C24: [1="Sangat tidak setuju"; 2="Tidap setuju"; 3=:Cukup setuju:; 4="Setuju"; 5="Sangat setuju"]
A25: F3-5 | B25: Kegiatan ini memberikan pemanfaatan ilmu pengetahuan dan teknologi kepada peserta secara berkelanjutan. | C25: [1="Sangat tidak setuju"; 2="Tidap setuju"; 3=:Cukup setuju:; 4="Setuju"; 5="Sangat setuju"]
A26: F3-6 | B26: Hasil kegiatan ini dapat memberikan solusi bagi permasalahan yang dihadapai oleh peserta. | C26: [1="Sangat tidak setuju"; 2="Tidap setuju"; 3=:Cukup setuju:; 4="Setuju"; 5="Sangat setuju"]
A27: F3-7 | B27: Kegiatan ini dilakukan sesuai dengan kaidah metode ilmiah (dilakukan secara terstruktur dan sistematis). | C27: [1="Sangat tidak setuju"; 2="Tidap setuju"; 3=:Cukup setuju:; 4="Setuju"; 5="Sangat setuju"]
A28: F4 | B28: Jika kegiatan ini diadakan kembali, saya sangat berminat untuk berpartisipasi lagi | C28: [1="Sangat tidak setuju"; 2="Tidap setuju"; 3=:Cukup setuju"; 4="Setuju"; 5="Sangat setuju"]
A29: F5 | B29: Secara keseluruhan saya sangat puas dengan kegiatan ini | C29: [1="Sangat tidak setuju"; 2="Tidap setuju"; 3=:Cukup setuju"; 4="Setuju"; 5="Sangat setuju"]
A30: F6 | B30: Saran atau kritik terhadap kegiatan ini | C30: Kuesioner terbuka

Sheet Link Kuesioner Mitra PkM
A1: Diharapkan Dosen menginput jawaban kuesioner yang diisi oleh perwakilan dari Mitra pada link berikut:
A2: https://docs.google.com/forms/d/e/1FAIpQLSevkDGXYRMUd_dpkY85Rste49ysP2VBi35SlNaquGrDnZyiZQ/viewform?usp=header
A3: *setiap mitra minimal ada satu responden
A11: \

Sheet INPUT DATA ADOPSI
A1: Rekap ini diisi jika Kegiatan PkM menghasilkan Produk/Aplikasi yang di-adopsi oleh Masyarakat/Mitra.
A2: Responden pada kuesioner ini adalah user/pengguna dari Produk/Aplikasi tersebut
A3: F2 Tuliskan Nama Produk/Aplikasi yang dimaksud : | D3: --------------------------- Tuliskan nama Produk/Aplikasi yang diadposi ---------------------------
A4: No. Respon | B4: F1.1 Nama | C4: F1.2 Alamat Email | D4: F1.3 No. Telpon | E4: F1.4 Jabatan | F4: F1.5 Institusi/Mitra | G4: F2 | H4: F3 | I4: F4-1 | J4: F4-2 | K4: F4-3 | L4: F4-4 | M4: F4-5 | N4: F4-6 | O4: F4-7 | Q4: Pertanyaan pada kuesioner | R4: Keterangan Jawaban
A5: 1 | H5: 1 | I5: 2 | J5: 3 | K5: 4 | L5: 1 | M5: 2 | N5: 3 | O5: 4 | Q5: F3. Apakah produk/Aplikasi tersebut telah diimplementasikan pada institusi/lingkungan Anda | R5: [1="Ya"; 2="Tidak"]
A6: 2 | H6: 2 | I6: 1 | J6: 2 | K6: 4 | L6: 3 | M6: 4 | N6: 5 | O6: 5 | Q6: Produk/Aplikasi yang digunakan/diimplementasikan bermanfaat untuk menunjang pekerjaan (F4-1) | R6: [1="Sangat tidak setuju"; 2="Tidap setuju"; 3=:Cukup setuju"; 4="Setuju"; 5="Sangat setuju"]
A7: 3 | Q7: Produk/Aplikasi yang digunakan/diimplementasikan dapat mempermudah pekerjaan (F4-2) | R7: [1="Sangat tidak setuju"; 2="Tidap setuju"; 3=:Cukup setuju"; 4="Setuju"; 5="Sangat setuju"]
A8: 4 | Q8: Produk/Aplikasi yang digunakan/diimplementasikan dapat meningkatkan hasil pekerjaan/pelayanan (F4-3) | R8: [1="Sangat tidak setuju"; 2="Tidap setuju"; 3=:Cukup setuju"; 4="Setuju"; 5="Sangat setuju"]
A9: 5 | Q9: Produk/Aplikasi yang digunakan/diimplementasikan dapat menambah wawasan (F4-4) | R9: [1="Sangat tidak setuju"; 2="Tidap setuju"; 3=:Cukup setuju"; 4="Setuju"; 5="Sangat setuju"]
A10: 6 | Q10: Produk/Aplikasi yang digunakan/diimplementasikan memanfaatkan perkembangan ilmu pengetahuan dan teknologi (F4-5) | R10: [1="Sangat tidak setuju"; 2="Tidap setuju"; 3=:Cukup setuju"; 4="Setuju"; 5="Sangat setuju"]
A11: 7 | Q11: Produk/Aplikasi yang digunakan/diimplementasikan telah memenuhi Keselamatan dan Kesehatan Kerja (F4-6) | R11: [1="Sangat tidak setuju"; 2="Tidap setuju"; 3=:Cukup setuju"; 4="Setuju"; 5="Sangat setuju"]
A12: 8 | Q12: Produk/Aplikasi yang digunakan/diimplementasikan telah memberikan manfaat sesuai dengan yang disepakati (F4-7) | R12: [1="Sangat tidak setuju"; 2="Tidap setuju"; 3=:Cukup setuju"; 4="Setuju"; 5="Sangat setuju"]
A13: 9
A14: 10
A15: 11
A16: 12
A17: 13
A18: 14
A19: 15
A20: 16
A21: 17
A22: 18
A23: 19
A24: 20
... A30: 26

Sheet REKAP Adopsi
A1: SKOR RATA-RATA KUESIONER PESERTA UNTUK DIINPUTKAN PADA GFORM
A2: ='PROFIL DOSEN'!D4 -> Universitas Bina Sarana Informatika
B3: Link GFORM: | C3: https://docs.google.com/forms/d/e/1FAIpQLScujtVwRFMmWZdVbTz0Nt54ey89UjnLap3leCkaYsfNQW5X2Q/viewform?usp=header
C4: *Harus login melalui email @bsi.ac.id
A5: PROFIL KELOMPOK DOSEN
A6: Nama Ketua Kelompok | C6: =CONCATENATE(":",'PROFIL DOSEN'!D7) -> :Susi Susilowati, M.Kom
A7: NIP Ketua Kelompok | C7: =CONCATENATE(":",'PROFIL DOSEN'!D8) -> :200109680
A8: NIDN Ketua Kelompok | C8: =CONCATENATE(":",'PROFIL DOSEN'!D9) -> :410077503
A9: Program Studi Ketua Kelompok | C9: =CONCATENATE(":",'PROFIL DOSEN'!D10) -> :Sistem Informasi Akuntansi Kampus Kota Bogor
A11: INFORMASI KEGIATAN
A12: Tanggal Pelaksanaan | C12: =CONCATENATE(":",'PROFIL DOSEN'!D13) -> :3 Oktober 2026
A13: Nama Produk/Apliksi | C13: =CONCATENATE(":",'INPUT DATA ADOPSI'!D3) -> :--------------------------- Tuliskan nama Produk/Aplikasi yang diadposi ---------------------------
A14: Nama Mitra | C14: =CONCATENATE(":",'PROFIL DOSEN'!D15) -> :PKK RT 05 Desa Ragajaya Bojonggede Bogor
A15: Peserta Kegiatan | C15: =CONCATENATE(":",'PROFIL DOSEN'!D16) -> :Anggota pkk dan warga RT 05
A16: Jumlah Responden | C16: =CONCATENATE(":",'PROFIL DOSEN'!D17) -> :11
A18: REKAP HASIL KUESIONER
A20: F3 Produk/Aplikasi tersebut telah diimplementasikan pada institusi/lingkungan Anda
A21: No | B21: Program Studi | C21: Freq
A22: 1 | B22: Ya | C22: =COUNTIF('INPUT DATA ADOPSI'!H5:H30,A22) -> 1
A23: 2 | B23: Tidak | C23: =COUNTIF('INPUT DATA ADOPSI'!H6:H31,A23) -> 1
A24: Jumlah Responden | C24: =SUM(C22:C23) -> 2
A27: F4 Pernyataan mengenai penggunaan/Implementasi Produk/Aplikasi
A28: No. Form | B28: Pertanyaan | F28: Skor Rata-rata
A29: F4-1 | B29: Produk/Aplikasi yang digunakan/ diimplementasikan bermanfaat untuk menunjang pekerjaan | F29: =AVERAGE('INPUT DATA ADOPSI'!I$5:I$30) -> 1.5
A30: F4-2 | B30: Produk/Aplikasi yang digunakan/ diimplementasikan dapat mempermudah pekerjaan | F30: =AVERAGE('INPUT DATA ADOPSI'!J$5:JI$30) -> 3.3333333
A31: F4-3 | B31: Produk/Aplikasi yang digunakan/ diimplementasikan dapat meningkatkan hasil pekerjaan/pelayanan | F31: =AVERAGE('INPUT DATA ADOPSI'!K$5:K$30) -> 4
A32: F4-4 | B32: Produk/Aplikasi yang digunakan/ diimplementasikan dapat menambah wawasan | F32: =AVERAGE('INPUT DATA ADOPSI'!L$5:L$30) -> 2
A33: F4-5 | B33: Produk/Aplikasi yang digunakan/ diimplementasikan memanfaatkan perkembangan ilmu pengetahuan dan teknologi | F33: =AVERAGE('INPUT DATA ADOPSI'!M$5:M$30) -> 3
A34: F4-6 | B34: Produk/Aplikasi yang digunakan/ diimplementasikan telah memenuhi Keselamatan dan Kesehatan Kerja | F34: =AVERAGE('INPUT DATA ADOPSI'!N$5:N$30) -> 4
A35: F4-7 | B35: Produk/Aplikasi yang digunakan/ diimplementasikan telah memberikan manfaat sesuai dengan yang disepakati | F35: =AVERAGE('INPUT DATA ADOPSI'!O$5:O$30) -> 4.5
