Workbook
Name jawaban: 'INPUT DATA'!$AM$23:$AN$70

Sheet PROFIL DOSEN
A1: DATA PROFIL KELOMPOK DOSEN
A3: Institusi
A4: Nama Intitusi | C4: : | D4: UNIVERSITAS BINA SARANA INFORMATIKA
A6: Ketua Kelompok Dosen
A7: Nama | C7: : | D7: Arina Selawati, M.Kom
A8: NIP | C8: : | D8: 202110267
A9: NIDN | C9: : | D9: 302079501
A10: Program Studi | C10: : | D10: Informatika (S1)
A12: Informasi Kegiatan
A13: Tanggal Pelaksanaan | C13: : | D13: 8 Maret 2026
A14: Judul Kegiatan | C14: : | D14: Pemanfaatan Artificial Intelligence (AI) Untuk Peningkatan Literasi Digital pada RT 03 RW 02 Rawa Mekar Jaya, Serpong, Tangerang Selatan
A15: Nama Mitra | C15: : | D15: RT 03 RW 02 Rawa Mekar Jaya, Serpong, Tangerang Selatan
A16: Peserta Kegiatan* | C16: : | D16: Pengurus RT 03 RW 02 Rawa Mekar Jaya, Serpong, Tangerang Selatan
A17: Jumlah Responden | C17: : | D17: 10
A18: * tuliskan siapa peserta kegiatan, misalnya: anggota karang taruna

Sheet INPUT DATA
A1: No. Respon | B1: F1.1 Nama Responden | C1: F1.2 Jenis Kelamin | D1: F1.3 Usia | E1: F1.3 Jenis Kegiatan | F1: F2-1 | G1: F2-2 | H1: F2-3 | I1: F2-4 | J1: F2-5 | K1: F2-6 | L1: F3-1 | M1: F3-2 | N1: F3-3 | O1: F3-4 | P1: F3-5 | Q1: F3-6 | R1: F3-7 | S1: F4 | T1: F5 | U1: F6
A2: 1 | B2: Yulianti | C2: 2 | D2: 3 | E2: 1 | F2: 4 | G2: 4 | H2: 4 | I2: 4 | J2: 4 | K2: 4 | L2: 5 | M2: 5 | N2: 5 | O2: 4 | P2: 4 | Q2: 4 | R2: 5 | S2: 5 | T2: 5 | U2: Tolong Adakan Kembali Kegiatan Pm Untuk Tahun Depan
A3: 2 | B3: Dian | C3: 2 | D3: 2 | E3: 1 | F3: 4 | G3: 5 | H3: 5 | I3: 5 | J3: 5 | K3: 4 | L3: 4 | M3: 4 | N3: 5 | O3: 4 | P3: 4 | Q3: 4 | R3: 4 | S3: 5 | T3: 5 | U3: Pmnya Menarik
A4: 3 | B4: Mulyadi | C4: 1 | D4: 3 | E4: 1 | F4: 5 | G4: 5 | H4: 5 | I4: 5 | J4: 5 | K4: 5 | L4: 5 | M4: 5 | N4: 5 | O4: 5 | P4: 5 | Q4: 5 | R4: 5 | S4: 5 | T4: 5 | U4: Ditambah Lagi Kegiatannya Mungkin Untuk Dalam 1 Tahun
A5: 4 | B5: Zainul Rahman | C5: 1 | D5: 2 | E5: 1 | F5: 5 | G5: 4 | H5: 4 | I5: 4 | J5: 4 | K5: 4 | L5: 4 | M5: 4 | N5: 3 | O5: 4 | P5: 4 | Q5: 4 | R5: 4 | S5: 5 | T5: 4 | U5: Sarana, Prasarana Sangat Baik Dan Kegiatan PM Ini Sangat Bermanfaat, Namun Kekurangannya Kurang Komitmen dalam Mulainnya Kegiatan/Waktu Kegiatan
A6: 5 | B6: Jadianto | C6: 1 | D6: 3 | E6: 1 | F6: 4 | G6: 4 | H6: 4 | I6: 4 | J6: 5 | K6: 4 | L6: 5 | M6: 5 | N6: 5 | O6: 5 | P6: 4 | Q6: 5 | R6: 4 | S6: 5 | T6: 5 | U6: Saran = Bisa ditingkatkan dan Dilaksanakan Rutin Karena Berdampak Sangat Baik Buat Lingkungan Masyarakat
A7: 6 | B7: RT Nur Alam | C7: 1 | D7: 4 | E7: 1 | F7: 4 | G7: 3 | H7: 5 | I7: 3 | J7: 5 | K7: 4 | L7: 4 | M7: 4 | N7: 5 | O7: 4 | P7: 4 | Q7: 5 | R7: 4 | S7: 5 | T7: 5
A8: 7 | B8: Wartam | C8: 1 | D8: 3 | E8: 1 | F8: 5 | G8: 5 | H8: 5 | I8: 5 | J8: 5 | K8: 5 | L8: 5 | M8: 5 | N8: 5 | O8: 5 | P8: 5 | Q8: 5 | R8: 5 | S8: 5 | T8: 5 | U8: Semoga Ditahun Berikutnya Akan Lebih Meningkat Lagi…!
A9: 8 | B9: Awang | C9: 1 | D9: 1 | E9: 1 | F9: 4 | G9: 5 | H9: 4 | I9: 4 | J9: 4 | K9: 4 | L9: 5 | M9: 5 | N9: 5 | O9: 5 | P9: 4 | Q9: 3 | R9: 4 | S9: 5 | T9: 5 | U9: Sarana Kegiatan Sangat Baik Untuk PM Ini, Semoga Kami Bisa Menjalankan Memanfaatkan Ilmunya
A10: 9 | B10: Amat | C10: 1 | D10: 4 | E10: 1 | F10: 5 | G10: 5 | H10: 5 | I10: 5 | J10: 5 | K10: 5 | L10: 5 | M10: 5 | N10: 5 | O10: 5 | P10: 5 | Q10: 5 | R10: 5 | S10: 5 | T10: 5 | U10: Kalau Bisa diadakan Setahun Pat Kali
A11: 10 | B11: Jayadil | C11: 1 | D11: 4 | E11: 1 | F11: 5 | G11: 5 | H11: 5 | I11: 5 | J11: 5 | K11: 5 | L11: 5 | M11: 5 | N11: 1 | O11: 1 | P11: 5 | Q11: 5 | R11: 5 | S11: 5 | T11: 5 | U11: Kalau Ada Acara Seperti Ini Boleh Diundang Kembali
A13: *Maksimal jumlah responden adalah 50

Sheet REKAP 1 (untuk di Laporan)
A1: REKAP KUESIONER PESERTA
A2: KEGIATAN PENGABDIAN KEPADA MASYARAKAT
A3: ='PROFIL DOSEN'!D4 -> UNIVERSITAS BINA SARANA INFORMATIKA
A5: Tanggal Pelaksanaan | C5: =CONCATENATE(": ",'PROFIL DOSEN'!D13) -> : 8 Maret 2026
A6: Judul Kegiatan | C6: =CONCATENATE(": ",'PROFIL DOSEN'!D14) -> : Pemanfaatan Artificial Intelligence (AI) Untuk Peningkatan Literasi Digital pada RT 03 RW 02 Rawa Mekar Jaya, Serpong, Tangerang Selatan
A7: Nama Mitra | C7: =CONCATENATE(": ",'PROFIL DOSEN'!D15) -> : RT 03 RW 02 Rawa Mekar Jaya, Serpong, Tangerang Selatan
A8: Peserta Kegiatan | C8: =CONCATENATE(": ",'PROFIL DOSEN'!D16) -> : Pengurus RT 03 RW 02 Rawa Mekar Jaya, Serpong, Tangerang Selatan
A9: Jumlah Responden | C9: =CONCATENATE(": ",'PROFIL DOSEN'!D17) -> : 10
A12: F1-2 Distribusi frekuensi Responden Responden berdasarkan jenis kelamin | F12: F1-3 Distribusi frekuensi Responden Responden berdasarkan Usia
A13: No | B13: Program Studi | C13: Freq | D13: Percent | F13: No | G13: Program Studi | H13: Freq | I13: Percent
A14: 1 | B14: Laki-Laki | C14: =COUNTIF('INPUT DATA'!$C$2:$C$11,'REKAP 1 (untuk di Laporan)'!A14) -> 8 | D14: =C14/$C$16 -> 0.8 | F14: 1 | G14: 12-20 Tahun | H14: =COUNTIF('INPUT DATA'!$D$2:$D$11,'REKAP 1 (untuk di Laporan)'!F14) -> 1 | I14: =H14/$H$18 -> 0.1
A15: 2 | B15: Perempuan | C15: =COUNTIF('INPUT DATA'!$C$2:$C$11,'REKAP 1 (untuk di Laporan)'!A15) -> 2 | D15: =C15/$C$16 -> 0.2 | F15: 2 | G15: 21-35 Tahun | H15: =COUNTIF('INPUT DATA'!$D$2:$D$11,'REKAP 1 (untuk di Laporan)'!F15) -> 2 | I15: =H15/$H$18 -> 0.2
A16: Jumlah Responden | C16: =SUM(C14:C15) -> 10 | D16: =SUM(D14:D15) -> 1 | F16: 3 | G16: 36-50 Tahun | H16: =COUNTIF('INPUT DATA'!$D$2:$D$11,'REKAP 1 (untuk di Laporan)'!F16) -> 4 | I16: =H16/$H$18 -> 0.4
F17: 4 | G17: >50 Tahun | H17: =COUNTIF('INPUT DATA'!$D$2:$D$11,'REKAP 1 (untuk di Laporan)'!F17) -> 3 | I17: =H17/$H$18 -> 0.3
F18: Jumlah Responden | H18: =SUM(H14:H17) -> 10 | I18: =SUM(I14:I17) -> 1
A19: F1-3 Distribusi frekuensi Responden Responden berdasarkan Jenis Kegitan
A20: No | B20: Program Studi | C20: Freq | D20: Percent
A21: 1 | B21: Pelatihan | C21: =COUNTIF('INPUT DATA'!$E$2:$E$11,'REKAP 1 (untuk di Laporan)'!A21) -> 10 | D21: =C21/$H$18 -> 1
A22: 2 | B22: Workshop | C22: =COUNTIF('INPUT DATA'!$E$2:$E$11,'REKAP 1 (untuk di Laporan)'!A22) -> 0 | D22: =C22/$H$18 -> 0
A23: 3 | B23: Lainnya | C23: =COUNTIF('INPUT DATA'!$E$2:$E$11,'REKAP 1 (untuk di Laporan)'!A23) -> 0 | D23: =C23/$H$18 -> 0
A24: Jumlah Responden | C24: =SUM(C21:C23) -> 10 | D24: =SUM(D21:D23) -> 1
A27: F2 | B27: Persepsi mengenai layanan yang diberikan oleh panitia kegiatan.
A28: F2-1 Informasi kegiatan pada saat pelaksanaan | F28: F2-2 Materi/modul pelatihan/kegiatan
A29: No | B29: Keterangan Jawaban | C29: Freq | D29: Percent | F29: No | G29: Keterangan Jawaban | H29: Freq | I29: Percent
A30: 1 | B30: Sangat tidak puas | C30: =COUNTIF('INPUT DATA'!F$2:F$11,'REKAP 1 (untuk di Laporan)'!$A30) -> 0 | D30: =C30/C35 -> 0 | F30: 1 | G30: Sangat tidak puas | H30: =COUNTIF('INPUT DATA'!G$2:G$11,'REKAP 1 (untuk di Laporan)'!$A30) -> 0 | I30: =H30/H35 -> 0
A31: 2 | B31: Tidak puas | C31: =COUNTIF('INPUT DATA'!F$2:F$11,'REKAP 1 (untuk di Laporan)'!$A31) -> 0 | D31: =C31/C35 -> 0 | F31: 2 | G31: Tidak puas | H31: =COUNTIF('INPUT DATA'!G$2:G$11,'REKAP 1 (untuk di Laporan)'!$A31) -> 0 | I31: =H31/H35 -> 0
A32: 3 | B32: Cukup puas | C32: =COUNTIF('INPUT DATA'!F$2:F$11,'REKAP 1 (untuk di Laporan)'!$A32) -> 0 | D32: =C32/C35 -> 0 | F32: 3 | G32: Cukup puas | H32: =COUNTIF('INPUT DATA'!G$2:G$11,'REKAP 1 (untuk di Laporan)'!$A32) -> 1 | I32: =H32/H35 -> 0.1
A33: 4 | B33: Puas | C33: =COUNTIF('INPUT DATA'!F$2:F$11,'REKAP 1 (untuk di Laporan)'!$A33) -> 5 | D33: =C33/C35 -> 0.5 | F33: 4 | G33: Puas | H33: =COUNTIF('INPUT DATA'!G$2:G$11,'REKAP 1 (untuk di Laporan)'!$A33) -> 3 | I33: =H33/H35 -> 0.3
A34: 5 | B34: Sangat puas | C34: =COUNTIF('INPUT DATA'!F$2:F$11,'REKAP 1 (untuk di Laporan)'!$A34) -> 5 | D34: =C34/C35 -> 0.5 | F34: 5 | G34: Sangat puas | H34: =COUNTIF('INPUT DATA'!G$2:G$11,'REKAP 1 (untuk di Laporan)'!$A34) -> 6 | I34: =H34/H35 -> 0.6
C35: =SUM(C30:C34) -> 10 | D35: =SUM(D30:D34) -> 1 | H35: =SUM(H30:H34) -> 10 | I35: =SUM(I30:I34) -> 1
A38: F2-3 Sarana dan prasarana yang digunakan pada saat kegiatan berlangsung | F38: F2-4 Tema kegiatan ini
A39: No | B39: Keterangan Jawaban | C39: Freq | D39: Percent | F39: No | G39: Keterangan Jawaban | H39: Freq | I39: Percent
A40: 1 | B40: Sangat tidak puas | C40: =COUNTIF('INPUT DATA'!H$2:H$11,'REKAP 1 (untuk di Laporan)'!$A30) -> 0 | D40: =C40/C45 -> 0 | F40: 1 | G40: Sangat tidak update | H40: =COUNTIF('INPUT DATA'!I$2:I$11,'REKAP 1 (untuk di Laporan)'!$A30) -> 0 | I40: =H40/H45 -> 0
A41: 2 | B41: Tidak puas | C41: =COUNTIF('INPUT DATA'!H$2:H$11,'REKAP 1 (untuk di Laporan)'!$A31) -> 0 | D41: =C41/C45 -> 0 | F41: 2 | G41: Tidak update | H41: =COUNTIF('INPUT DATA'!I$2:I$11,'REKAP 1 (untuk di Laporan)'!$A31) -> 0 | I41: =H41/H45 -> 0
A42: 3 | B42: Cukup puas | C42: =COUNTIF('INPUT DATA'!H$2:H$11,'REKAP 1 (untuk di Laporan)'!$A32) -> 0 | D42: =C42/C45 -> 0 | F42: 3 | G42: Cukup update | H42: =COUNTIF('INPUT DATA'!I$2:I$11,'REKAP 1 (untuk di Laporan)'!$A32) -> 1 | I42: =H42/H45 -> 0.1
A43: 4 | B43: Puas | C43: =COUNTIF('INPUT DATA'!H$2:H$11,'REKAP 1 (untuk di Laporan)'!$A33) -> 4 | D43: =C43/C45 -> 0.4 | F43: 4 | G43: Update | H43: =COUNTIF('INPUT DATA'!I$2:I$11,'REKAP 1 (untuk di Laporan)'!$A33) -> 4 | I43: =H43/H45 -> 0.4
A44: 5 | B44: Sangat puas | C44: =COUNTIF('INPUT DATA'!H$2:H$11,'REKAP 1 (untuk di Laporan)'!$A34) -> 6 | D44: =C44/C45 -> 0.6 | F44: 5 | G44: Sangat update | H44: =COUNTIF('INPUT DATA'!I$2:I$11,'REKAP 1 (untuk di Laporan)'!$A34) -> 5 | I44: =H44/H45 -> 0.5
C45: =SUM(C40:C44) -> 10 | D45: =SUM(D40:D44) -> 1 | H45: =SUM(H40:H44) -> 10 | I45: =SUM(I40:I44) -> 1
A47: F2-5 Tutor/Narasumber menyampaikan materi | F47: F2-6 Susunan acara berjalan dengan baik
A48: No | B48: Keterangan Jawaban | C48: Freq | D48: Percent | F48: No | G48: Keterangan Jawaban | H48: Freq | I48: Percent
A49: 1 | B49: Sangat tidak bagus | C49: =COUNTIF('INPUT DATA'!J$2:J$11,'REKAP 1 (untuk di Laporan)'!$A30) -> 0 | D49: =C49/C54 -> 0 | F49: 1 | G49: Sangat tidak setuju | H49: =COUNTIF('INPUT DATA'!K$2:K$11,'REKAP 1 (untuk di Laporan)'!$A30) -> 0 | I49: =H49/H54 -> 0
A50: 2 | B50: Tidak bagus | C50: =COUNTIF('INPUT DATA'!J$2:J$11,'REKAP 1 (untuk di Laporan)'!$A31) -> 0 | D50: =C50/C54 -> 0 | F50: 2 | G50: Tidak setuju | H50: =COUNTIF('INPUT DATA'!K$2:K$11,'REKAP 1 (untuk di Laporan)'!$A31) -> 0 | I50: =H50/H54 -> 0
A51: 3 | B51: Cukup bagus | C51: =COUNTIF('INPUT DATA'!J$2:J$11,'REKAP 1 (untuk di Laporan)'!$A32) -> 0 | D51: =C51/C54 -> 0 | F51: 3 | G51: Cukup setuju | H51: =COUNTIF('INPUT DATA'!K$2:K$11,'REKAP 1 (untuk di Laporan)'!$A32) -> 0 | I51: =H51/H54 -> 0
A52: 4 | B52: Bagus | C52: =COUNTIF('INPUT DATA'!J$2:J$11,'REKAP 1 (untuk di Laporan)'!$A33) -> 3 | D52: =C52/C54 -> 0.3 | F52: 4 | G52: Setuju | H52: =COUNTIF('INPUT DATA'!K$2:K$11,'REKAP 1 (untuk di Laporan)'!$A33) -> 6 | I52: =H52/H54 -> 0.6
A53: 5 | B53: Sangat bagus | C53: =COUNTIF('INPUT DATA'!J$2:J$11,'REKAP 1 (untuk di Laporan)'!$A34) -> 7 | D53: =C53/C54 -> 0.7 | F53: 5 | G53: Sangat setuju | H53: =COUNTIF('INPUT DATA'!K$2:K$11,'REKAP 1 (untuk di Laporan)'!$A34) -> 4 | I53: =H53/H54 -> 0.4
C54: =SUM(C49:C53) -> 10 | D54: =SUM(D49:D53) -> 1 | H54: =SUM(H49:H53) -> 10 | I54: =SUM(I49:I53) -> 1
A65: F3 | B65: Persepsi Peserta Mengenai Hasil Kegiatan.
A66: F3-1 Kegiatan ini memberikan manfaat bagi peserta. | F66: F3-2 Kegiatan ini menambah wawasan peserta (mengenai tema yang disampaikan)
A67: No | B67: Keterangan Jawaban | C67: Freq | D67: Percent | F67: No | G67: Keterangan Jawaban | H67: Freq | I67: Percent
A68: 1 | B68: Sangat tidak setuju | C68: =COUNTIF('INPUT DATA'!L$2:L$11,'REKAP 1 (untuk di Laporan)'!$A30) -> 0 | D68: =C68/C73 -> 0 | F68: 1 | G68: Sangat tidak setuju | H68: =COUNTIF('INPUT DATA'!M$2:M$11,'REKAP 1 (untuk di Laporan)'!$A30) -> 0 | I68: =H68/H73 -> 0
A69: 2 | B69: Tidak setuju | C69: =COUNTIF('INPUT DATA'!L$2:L$11,'REKAP 1 (untuk di Laporan)'!$A31) -> 0 | D69: =C69/C73 -> 0 | F69: 2 | G69: Tidak setuju | H69: =COUNTIF('INPUT DATA'!M$2:M$11,'REKAP 1 (untuk di Laporan)'!$A31) -> 0 | I69: =H69/H73 -> 0
A70: 3 | B70: Cukup setuju | C70: =COUNTIF('INPUT DATA'!L$2:L$11,'REKAP 1 (untuk di Laporan)'!$A32) -> 0 | D70: =C70/C73 -> 0 | F70: 3 | G70: Cukup setuju | H70: =COUNTIF('INPUT DATA'!M$2:M$11,'REKAP 1 (untuk di Laporan)'!$A32) -> 0 | I70: =H70/H73 -> 0
A71: 4 | B71: Setuju | C71: =COUNTIF('INPUT DATA'!L$2:L$11,'REKAP 1 (untuk di Laporan)'!$A33) -> 3 | D71: =C71/C73 -> 0.3 | F71: 4 | G71: Setuju | H71: =COUNTIF('INPUT DATA'!M$2:M$11,'REKAP 1 (untuk di Laporan)'!$A33) -> 3 | I71: =H71/H73 -> 0.3
A72: 5 | B72: Sangat setuju | C72: =COUNTIF('INPUT DATA'!L$2:L$11,'REKAP 1 (untuk di Laporan)'!$A34) -> 7 | D72: =C72/C73 -> 0.7 | F72: 5 | G72: Sangat setuju | H72: =COUNTIF('INPUT DATA'!M$2:M$11,'REKAP 1 (untuk di Laporan)'!$A34) -> 7 | I72: =H72/H73 -> 0.7
C73: =SUM(C68:C72) -> 10 | D73: =SUM(D68:D72) -> 1 | H73: =SUM(H68:H72) -> 10 | I73: =SUM(I68:I72) -> 1
A75: F3-3 Kegiatan ini menambah ketrampilan peserta sesuai dengan tema yang disampaikan | F75: F3-4 Kegiatan ini memperhatikan Keselamatan dan Kesehatan Kerja (K3).
A76: No | B76: Keterangan Jawaban | C76: Freq | D76: Percent | F76: No | G76: Keterangan Jawaban | H76: Freq | I76: Percent
A77: 1 | B77: Sangat tidak setuju | C77: =COUNTIF('INPUT DATA'!N$2:N$11,'REKAP 1 (untuk di Laporan)'!$A30) -> 1 | D77: =C77/C82 -> 0.1 | F77: 1 | G77: Sangat tidak setuju | H77: =COUNTIF('INPUT DATA'!O$2:O$11,'REKAP 1 (untuk di Laporan)'!$A30) -> 1 | I77: =H77/H82 -> 0.1
A78: 2 | B78: Tidak setuju | C78: =COUNTIF('INPUT DATA'!N$2:N$11,'REKAP 1 (untuk di Laporan)'!$A31) -> 0 | D78: =C78/C82 -> 0 | F78: 2 | G78: Tidak setuju | H78: =COUNTIF('INPUT DATA'!O$2:O$11,'REKAP 1 (untuk di Laporan)'!$A31) -> 0 | I78: =H78/H82 -> 0
A79: 3 | B79: Cukup setuju | C79: =COUNTIF('INPUT DATA'!N$2:N$11,'REKAP 1 (untuk di Laporan)'!$A32) -> 1 | D79: =C79/C82 -> 0.1 | F79: 3 | G79: Cukup setuju | H79: =COUNTIF('INPUT DATA'!O$2:O$11,'REKAP 1 (untuk di Laporan)'!$A32) -> 0 | I79: =H79/H82 -> 0
A80: 4 | B80: Setuju | C80: =COUNTIF('INPUT DATA'!N$2:N$11,'REKAP 1 (untuk di Laporan)'!$A33) -> 0 | D80: =C80/C82 -> 0 | F80: 4 | G80: Setuju | H80: =COUNTIF('INPUT DATA'!O$2:O$11,'REKAP 1 (untuk di Laporan)'!$A33) -> 4 | I80: =H80/H82 -> 0.4
A81: 5 | B81: Sangat setuju | C81: =COUNTIF('INPUT DATA'!N$2:N$11,'REKAP 1 (untuk di Laporan)'!$A34) -> 8 | D81: =C81/C82 -> 0.8 | F81: 5 | G81: Sangat setuju | H81: =COUNTIF('INPUT DATA'!O$2:O$11,'REKAP 1 (untuk di Laporan)'!$A34) -> 5 | I81: =H81/H82 -> 0.5
C82: =SUM(C77:C81) -> 10 | D82: =SUM(D77:D81) -> 1 | H82: =SUM(H77:H81) -> 10 | I82: =SUM(I77:I81) -> 1
A84: F3-5 Kegiatan ini memberikan pemanfaatan ilmu pengetahuan dan teknologi kepada peserta secara berkelanjutan. | F84: F3-6 Hasil kegiatan ini dapat memberikan solusi bagi permasalahan yang dihadapai oleh peserta.
A85: No | B85: Keterangan Jawaban | C85: Freq | D85: Percent | F85: No | G85: Keterangan Jawaban | H85: Freq | I85: Percent
A86: 1 | B86: Sangat tidak setuju | C86: =COUNTIF('INPUT DATA'!P$2:P$11,'REKAP 1 (untuk di Laporan)'!$A30) -> 0 | D86: =C86/C91 -> 0 | F86: 1 | G86: Sangat tidak setuju | H86: =COUNTIF('INPUT DATA'!Q$2:Q$11,'REKAP 1 (untuk di Laporan)'!$A30) -> 0 | I86: =H86/H91 -> 0
A87: 2 | B87: Tidak setuju | C87: =COUNTIF('INPUT DATA'!P$2:P$11,'REKAP 1 (untuk di Laporan)'!$A31) -> 0 | D87: =C87/C91 -> 0 | F87: 2 | G87: Tidak setuju | H87: =COUNTIF('INPUT DATA'!Q$2:Q$11,'REKAP 1 (untuk di Laporan)'!$A31) -> 0 | I87: =H87/H91 -> 0
A88: 3 | B88: Cukup setuju | C88: =COUNTIF('INPUT DATA'!P$2:P$11,'REKAP 1 (untuk di Laporan)'!$A32) -> 0 | D88: =C88/C91 -> 0 | F88: 3 | G88: Cukup setuju | H88: =COUNTIF('INPUT DATA'!Q$2:Q$11,'REKAP 1 (untuk di Laporan)'!$A32) -> 1 | I88: =H88/H91 -> 0.1
A89: 4 | B89: Setuju | C89: =COUNTIF('INPUT DATA'!P$2:P$11,'REKAP 1 (untuk di Laporan)'!$A33) -> 6 | D89: =C89/C91 -> 0.6 | F89: 4 | G89: Setuju | H89: =COUNTIF('INPUT DATA'!Q$2:Q$11,'REKAP 1 (untuk di Laporan)'!$A33) -> 3 | I89: =H89/H91 -> 0.3
A90: 5 | B90: Sangat setuju | C90: =COUNTIF('INPUT DATA'!P$2:P$11,'REKAP 1 (untuk di Laporan)'!$A34) -> 4 | D90: =C90/C91 -> 0.4 | F90: 5 | G90: Sangat setuju | H90: =COUNTIF('INPUT DATA'!Q$2:Q$11,'REKAP 1 (untuk di Laporan)'!$A34) -> 6 | I90: =H90/H91 -> 0.6
C91: =SUM(C86:C90) -> 10 | D91: =SUM(D86:D90) -> 1 | H91: =SUM(H86:H90) -> 10 | I91: =SUM(I86:I90) -> 1
A93: F3-7 Kegiatan ini dilakukan sesuai dengan kaidah metode ilmiah (dilakukan secara terstruktur dan sistematis).
A94: No | B94: Keterangan Jawaban | C94: Freq | D94: Percent
A95: 1 | B95: Sangat tidak setuju | C95: =COUNTIF('INPUT DATA'!R$2:R$11,'REKAP 1 (untuk di Laporan)'!$A30) -> 0 | D95: =C95/C100 -> 0
A96: 2 | B96: Tidak setuju | C96: =COUNTIF('INPUT DATA'!R$2:R$11,'REKAP 1 (untuk di Laporan)'!$A31) -> 0 | D96: =C96/C100 -> 0
A97: 3 | B97: Cukup setuju | C97: =COUNTIF('INPUT DATA'!R$2:R$11,'REKAP 1 (untuk di Laporan)'!$A32) -> 0 | D97: =C97/C100 -> 0
A98: 4 | B98: Setuju | C98: =COUNTIF('INPUT DATA'!R$2:R$11,'REKAP 1 (untuk di Laporan)'!$A33) -> 5 | D98: =C98/C100 -> 0.5
A99: 5 | B99: Sangat setuju | C99: =COUNTIF('INPUT DATA'!R$2:R$11,'REKAP 1 (untuk di Laporan)'!$A34) -> 5 | D99: =C99/C100 -> 0.5
C100: =SUM(C95:C99) -> 10 | D100: =SUM(D95:D99) -> 1
A103: F4 Jika kegiatan ini diadakan kembali, seberapa besar minat responden untuk berpartisipasi
A104: No | B104: Keterangan Jawaban | C104: Freq | D104: Percent
A105: 1 | B105: Sangat tidak berminat | C105: =COUNTIF('INPUT DATA'!S$2:S$11,'REKAP 1 (untuk di Laporan)'!$A30) -> 0 | D105: =C105/C110 -> 0
A106: 2 | B106: Tidak berminat | C106: =COUNTIF('INPUT DATA'!S$2:S$11,'REKAP 1 (untuk di Laporan)'!$A31) -> 0 | D106: =C106/C110 -> 0
A107: 3 | B107: Cukup berminat | C107: =COUNTIF('INPUT DATA'!S$2:S$11,'REKAP 1 (untuk di Laporan)'!$A32) -> 0 | D107: =C107/C110 -> 0
A108: 4 | B108: Berminat | C108: =COUNTIF('INPUT DATA'!S$2:S$11,'REKAP 1 (untuk di Laporan)'!$A33) -> 0 | D108: =C108/C110 -> 0
A109: 5 | B109: Sangat berminat | C109: =COUNTIF('INPUT DATA'!S$2:S$11,'REKAP 1 (untuk di Laporan)'!$A34) -> 10 | D109: =C109/C110 -> 1
C110: =SUM(C105:C109) -> 10 | D110: =SUM(D105:D109) -> 1
A112: F5 Persepsi kepuasan responden terhadap kegiatan ini secara keseluruhan.
A113: No | B113: Keterangan Jawaban | C113: Freq | D113: Percent
A114: 1 | B114: Sangat tidak puas | C114: =COUNTIF('INPUT DATA'!T$2:T$11,'REKAP 1 (untuk di Laporan)'!$A30) -> 0 | D114: =C114/C119 -> 0
A115: 2 | B115: Tidak puas | C115: =COUNTIF('INPUT DATA'!T$2:T$11,'REKAP 1 (untuk di Laporan)'!$A31) -> 0 | D115: =C115/C119 -> 0
A116: 3 | B116: Cukup puas | C116: =COUNTIF('INPUT DATA'!T$2:T$11,'REKAP 1 (untuk di Laporan)'!$A32) -> 0 | D116: =C116/C119 -> 0
A117: 4 | B117: Puas | C117: =COUNTIF('INPUT DATA'!T$2:T$11,'REKAP 1 (untuk di Laporan)'!$A33) -> 1 | D117: =C117/C119 -> 0.1
A118: 5 | B118: Sangat puas | C118: =COUNTIF('INPUT DATA'!T$2:T$11,'REKAP 1 (untuk di Laporan)'!$A34) -> 9 | D118: =C118/C119 -> 0.9
C119: =SUM(C114:C118) -> 10 | D119: =SUM(D114:D118) -> 1

Sheet REKAP 2 (untuk input GForm)
A1: SKOR RATA-RATA UNTUK DIINPUTKAN PADA GFORM
A2: ='PROFIL DOSEN'!D4 -> UNIVERSITAS BINA SARANA INFORMATIKA
B3: Link GFORM: | C3: https://docs.google.com/forms/d/e/1FAIpQLSdyrpA0uXQPh_kG9IPj541GEhlZfd14kaSCmWu-3MFF6eE7bQ/viewform?usp=header
C4: *Harus login melalui email @bsi.ac.id
A5: PROFIL KELOMPOK DOSEN
A6: Nama Ketua Kelompok | C6: =CONCATENATE(":",'PROFIL DOSEN'!D7) -> :Arina Selawati, M.Kom
A7: NIP Ketua Kelompok | C7: =CONCATENATE(":",'PROFIL DOSEN'!D8) -> :202110267
A8: NIDN Ketua Kelompok | C8: =CONCATENATE(":",'PROFIL DOSEN'!D9) -> :302079501
A9: Program Studi Ketua Kelompok | C9: =CONCATENATE(":",'PROFIL DOSEN'!D10) -> :Informatika (S1)
A11: INFORMASI KEGIATAN
A12: Tanggal Pelaksanaan | C12: =CONCATENATE(":",'PROFIL DOSEN'!D13) -> :8 Maret 2026
A13: Judul Kegiatan | C13: =CONCATENATE(":",'PROFIL DOSEN'!D14) -> :Pemanfaatan Artificial Intelligence (AI) Untuk Peningkatan Literasi Digital pada RT 03 RW 02 Rawa Mekar Jaya, Serpong, Tangerang Selatan
A14: Nama Mitra | C14: =CONCATENATE(":",'PROFIL DOSEN'!D15) -> :RT 03 RW 02 Rawa Mekar Jaya, Serpong, Tangerang Selatan
A15: Peserta Kegiatan | C15: =CONCATENATE(":",'PROFIL DOSEN'!D16) -> :Pengurus RT 03 RW 02 Rawa Mekar Jaya, Serpong, Tangerang Selatan
A16: Jumlah Responden | C16: =CONCATENATE(":",'PROFIL DOSEN'!D17) -> :10
A18: REKAP HASIL KUESIONER
A19: F1-2 Jumlah Responden Berdasarkan Jenis Kelamin
A20: No | B20: Program Studi | C20: Freq
A21: 1 | B21: Laki-Laki | C21: ='REKAP 1 (untuk di Laporan)'!C14 -> 8
A22: 2 | B22: Perempuan | C22: ='REKAP 1 (untuk di Laporan)'!C15 -> 2
A23: Jumlah Responden | C23: =SUM(C21:C22) -> 10
A25: F1-3 Jumlah Responden Berdasarkan Usia
A26: No | B26: Program Studi | C26: Freq
A27: 1 | B27: 12- 20 Tahun | C27: ='REKAP 1 (untuk di Laporan)'!H14 -> 1
A28: 2 | B28: 21-35 Tahun | C28: ='REKAP 1 (untuk di Laporan)'!H15 -> 2
A29: 3 | B29: 36-50 Tahun | C29: ='REKAP 1 (untuk di Laporan)'!H16 -> 4
A30: 4 | B30: >50 Tahun | C30: ='REKAP 1 (untuk di Laporan)'!H17 -> 3
A31: Jumlah Responden | C31: =SUM(C27:C30) -> 10
A33: F1-4 Distribusi frekuensi Responden Responden berdasarkan Jenis Kegitan
A34: No | B34: Program Studi | C34: Freq
A35: 1 | B35: Pelatihan | C35: ='REKAP 1 (untuk di Laporan)'!C21 -> 10
A36: 2 | B36: Workshop | C36: ='REKAP 1 (untuk di Laporan)'!C22 -> 0
A37: 3 | B37: Lainnya | C37: ='REKAP 1 (untuk di Laporan)'!C23 -> 0
A40: F2 Persepsi mengenai layanan yang diberikan oleh panitia kegiatan.
A41: No. Form | B41: Pertanyaan | F41: Skor Rata-rata
A42: F2-1 | B42: Informasi kegiatan pada saat pelaksanaan | F42: =AVERAGE('INPUT DATA'!F$2:F$11) -> 4.5
A43: F2-2 | B43: Materi/modul pelatihan/kegiatan | F43: =AVERAGE('INPUT DATA'!G$2:G$11) -> 4.5
A44: F2-3 | B44: Sarana dan prasarana yang digunakan pada saat kegiatan berlangsung | F44: =AVERAGE('INPUT DATA'!H$2:H$11) -> 4.6
A45: F2-4 | B45: Tema kegiatan ini | F45: =AVERAGE('INPUT DATA'!I$2:I$11) -> 4.4
A46: F2-5 | B46: Tutor/Narasumber menyampaikan materi | F46: =AVERAGE('INPUT DATA'!J$2:J$11) -> 4.7
A47: F2-6 | B47: Susunan acara berjalan dengan baik | F47: =AVERAGE('INPUT DATA'!K$2:K$11) -> 4.4
A49: F3 Persepsi Peserta Mengenai Hasil Kegiatan.
A50: No. Form | B50: Pertanyaan | F50: Skor Rata-rata
A51: F3-1 | B51: Kegiatan ini memberikan manfaat bagi peserta. | F51: =AVERAGE('INPUT DATA'!L$2:L$11) -> 4.7
A52: F3-2 | B52: Kegiatan ini menambah wawasan peserta (mengenai tema yang disampaikan) | F52: =AVERAGE('INPUT DATA'!M$2:M$11) -> 4.7
A53: F3-3 | B53: Kegiatan ini menambah ketrampilan peserta sesuai dengan tema yang disampaikan | F53: =AVERAGE('INPUT DATA'!N$2:N$11) -> 4.4
A54: F3-4 | B54: Kegiatan ini memperhatikan Keselamatan dan Kesehatan Kerja (K3). | F54: =AVERAGE('INPUT DATA'!O$2:O$11) -> 4.2
A55: F3-5 | B55: Kegiatan ini memberikan pemanfaatan ilmu pengetahuan dan teknologi kepada peserta secara berkelanjutan. | F55: =AVERAGE('INPUT DATA'!P$2:P$11) -> 4.4
A56: F3-6 | B56: Hasil kegiatan ini dapat memberikan solusi bagi permasalahan yang dihadapai oleh peserta. | F56: =AVERAGE('INPUT DATA'!Q$2:Q$11) -> 4.5
A57: F3-7 | B57: Kegiatan ini dilakukan sesuai dengan kaidah metode ilmiah (dilakukan secara terstruktur dan sistematis). | F57: =AVERAGE('INPUT DATA'!R$2:R$11) -> 4.5
A59: No. Form | B59: Pertanyaan | F59: Skor Rata-rata
A60: F4 | B60: Jika kegiatan ini diadakan kembali, seberapa besar minat responden untuk berpartisipasi | F60: =AVERAGE('INPUT DATA'!S$2:S$11) -> 5
A61: F5 | B61: Persepsi kepuasan responden terhadap kegiatan ini secara keseluruhan. | F61: =AVERAGE('INPUT DATA'!T$2:T$11) -> 4.9

Sheet KUESIONER
A1: F1 | B1: PROFIL RESPONDEN
A2: F1-1 | B2: Nama Responden | C2: …………………………………………………………………………………………………….
A3: F1-2 | B3: Jenis Kelamin | C3: 1=Laki-Laki 2 =Perempuan
A4: F1-3 | B4: Usia | C4: 1 = umur 12-20 Tahun 2 = umur 21-35 Tahun 3 = umur 36-50 Tahun 4 = umur >50- Tahun
A5: F1-4 | B5: Jenis Kegiatan | C5: 1 = Pelatihan 2 = Workshop 3 = Lainnya: …………………………………..
A6: F1-5 | B6: Tema Kegiatan | C6: …………………………………………………………………………………………………….
A7: F1-6 | B7: Tanggal Pelaksanaan | C7: …………………………………………………………………………………………………….
A8: F1-7 | B8: Tempat Pelaksanaan | C8: …………………………………………………………………………………………………….
A9: F1-8 | B9: Nama Mitra | C9: …………………………………………………………………………………………………….
A12: F2 | B12: Persepsi mengenai layanan yang diberikan oleh panitia kegiatan.
A13: F2-1 | B13: Informasi kegiatan pada saat pelaksanaan | C13: [1="Sangat tidak puas"; 2="Tidak puas"; 3=:Cukup puas:; 4="Puas"; 5="Sangat puas"]
A14: F2-2 | B14: Materi/modul pelatihan/kegiatan | C14: [1="Sangat tidak puas"; 2="Tidak puas"; 3=:Cukup puas:; 4="Puas"; 5="Sangat puas"]
A15: F2-3 | B15: Sarana dan prasarana yang digunakan pada saat kegiatan berlangsung | C15: [1="Sangat tidak puas"; 2="Tidak puas"; 3=:Cukup puas:; 4="Puas"; 5="Sangat puas"]
A16: F2-4 | B16: Tema kegiatan ini | C16: [1="Sangat tidak update"; 2="Tidak update"; 3=:Cukup update:; 4="Puas"; 5="Sangat update"]
A17: F2-5 | B17: Tutor/Narasumber menyampaikan materi | C17: [1="Sangat tidak puas"; 2="Tidak puas"; 3=:Cukup puas:; 4="Puas"; 5="Sangat puas"]
A18: F2-6 | B18: Susunan acara berjalan dengan baik | C18: [1="Sangat tidak puas"; 2="Tidak puas"; 3=:Cukup puas:; 4="Puas"; 5="Sangat puas"]
A20: F3 | B20: Persepsi Peserta Mengenai Hasil Kegiatan.
A21: F3-1 | B21: Kegiatan ini memberikan manfaat bagi peserta. | C21: [1="Sangat tidak setuju"; 2="Tidak setuju"; 3=:Cukup setuju:; 4="Setuju"; 5="Sangat setuju"]
A22: F3-2 | B22: Kegiatan ini menambah wawasan peserta (mengenai tema yang disampaikan) | C22: [1="Sangat tidak setuju"; 2="Tidak setuju"; 3=:Cukup setuju:; 4="Setuju"; 5="Sangat setuju"]
A23: F3-3 | B23: Kegiatan ini menambah ketrampilan peserta sesuai dengan tema yang disampaikan | C23: [1="Sangat tidak setuju"; 2="Tidak setuju"; 3=:Cukup setuju:; 4="Setuju"; 5="Sangat setuju"]
A24: F3-4 | B24: Kegiatan ini memperhatikan Keselamatan dan Kesehatan Kerja (K3). | C24: [1="Sangat tidak setuju"; 2="Tidak setuju"; 3=:Cukup setuju:; 4="Setuju"; 5="Sangat setuju"]
A25: F3-5 | B25: Kegiatan ini memberikan pemanfaatan ilmu pengetahuan dan teknologi kepada peserta secara berkelanjutan. | C25: [1="Sangat tidak setuju"; 2="Tidak setuju"; 3=:Cukup setuju:; 4="Setuju"; 5="Sangat setuju"]
A26: F3-6 | B26: Hasil kegiatan ini dapat memberikan solusi bagi permasalahan yang dihadapai oleh peserta. | C26: [1="Sangat tidak setuju"; 2="Tidak setuju"; 3=:Cukup setuju:; 4="Setuju"; 5="Sangat setuju"]
A27: F3-7 | B27: Kegiatan ini dilakukan sesuai dengan kaidah metode ilmiah (dilakukan secara terstruktur dan sistematis). | C27: [1="Sangat tidak setuju"; 2="Tidak setuju"; 3=:Cukup setuju:; 4="Setuju"; 5="Sangat setuju"]
A28: F4 | B28: Jika kegiatan ini diadakan kembali, seberapa besar minat responden untuk berpartisipasi | C28: [1="Sangat tidak berminat"; 2="Tidak berminat"; 3=:Cukup berminat:; 4="berminat"; 5="Sangat berminat"]
A29: F5 | B29: Persepsi kepuasan responden terhadap kegiatan ini secara keseluruhan. | C29: [1="Sangat tidak puas"; 2="Tidak puas"; 3=:Cukup puas:; 4="Puas"; 5="Sangat puas"]
A30: F6 | B30: Saran atau kritik terhadap kegiatan ini. | C30: Kuesioner terbuka

Sheet Link Kuesioner Mitra PkM
A1: Diharapkan Dosen menginput jawaban kuesioner yang diisi oleh perwakilan dari Mitra pada ling berikut:
A2: https://docs.google.com/forms/d/e/1FAIpQLSeSjixrSZlLkGl4SDjGISz1JSdEkaB0savSjnv_0xx12tSqAQ/viewform?usp=dialog
A3: *setiap mitra minimal ada satu responden dari perwakilan mitra
A4: *Harus login melalui email @bsi.ac.id
